Workbook

Sheet Overview
H1: Overview
H8: Worksheets | I8: Explanation
H9: Week Calculation | I9: Creates Week Range for the year in the "Tracking" Sheets.
H10: Programs and Members | I10: Includes all relevant collaborators in a program by garrison and form sign-off section
H11: Tracking | I11: Used to track tasks week-by-week at program level by garrison level
H14: Key
H15: Color Code | I15: Color
H16: Not-Started | I16: Pink
H17: On-Going | I17: Tan
H18: Completed | I18: Blue
H19: Input Information | I19: White

Sheet Week Calculation
B1: Week Calc. Sheet to Extend Weeks for "Tracking" Sheet
B2: Start date: | C2: 44197 | D2: End date: | E2: =D55 -> 44561
E3: Formula | F3: Values | G3: Transposed
B4: Week 1 | C4: =C2 -> 44197 | D4: =$C$2+ROWS($A$1:A1)*7 -> 44204 | E4: =TEXT(C4,"MM/DD")&" - "&TEXT(D4,"MM/DD") -> 01/01 - 01/08 | F4: 01/01 - 01/08 | G4: 01/01 - 01/08 | H4: 01/09 - 01/15 | I4: 01/16 - 01/22 | J4: 01/23 - 01/29 | K4: 01/30 - 02/05 | L4: 02/06 - 02/12 | M4: 02/13 - 02/19 | N4: 02/20 - 02/26 | O4: 02/27 - 03/05 | P4: 03/06 - 03/12 | Q4: 03/13 - 03/19 | R4: 03/20 - 03/26 | S4: 03/27 - 04/02 | T4: 04/03 - 04/09 | U4: 04/10 - 04/16 | V4: 04/17 - 04/23 | W4: 04/24 - 04/30 | X4: 05/01 - 05/07 | Y4: 05/08 - 05/14 | Z4: 05/15 - 05/21 | AA4: 05/22 - 05/28 | AB4: 05/29 - 06/04 | AC4: 06/05 - 06/11 | AD4: 06/12 - 06/18 | AE4: 06/19 - 06/25 | AF4: 06/26 - 07/02 | AG4: 07/03 - 07/09 | AH4: 07/10 - 07/16 | AI4: 07/17 - 07/23 | AJ4: 07/24 - 07/30 | AK4: 07/31 - 08/06 | AL4: 08/07 - 08/13 | AM4: 08/14 - 08/20 | AN4: 08/21 - 08/27 | AO4: 08/28 - 09/03 | AP4: 09/04 - 09/10 | AQ4: 09/11 - 09/17 | AR4: 09/18 - 09/24 | AS4: 09/25 - 10/01 | AT4: 10/02 - 10/08 | AU4: 10/09 - 10/15 | AV4: 10/16 - 10/22 | AW4: 10/23 - 10/29 | AX4: 10/30 - 11/05 | AY4: 11/06 - 11/12 | AZ4: 11/13 - 11/19 | BA4: 11/20 - 11/26 | BB4: 11/27 - 12/03 | BC4: 12/04 - 12/10 | BD4: 12/11 - 12/17 | BE4: 12/18 - 12/24 | BF4: 12/25 - 12/31
B5: Week 2 | C5: =D4+1 -> 44205 | D5: =$C$2+ROWS($A$1:A2)*7 -> 44211 | E5: =TEXT(C5,"MM/DD")&" - "&TEXT(D5,"MM/DD") -> 01/09 - 01/15 | F5: 01/09 - 01/15
B6: Week 3 | C6: =D5+1 -> 44212 | D6: =$C$2+ROWS($A$1:A3)*7 -> 44218 | E6: =TEXT(C6,"MM/DD")&" - "&TEXT(D6,"MM/DD") -> 01/16 - 01/22 | F6: 01/16 - 01/22
B7: Week 4 | C7: =D6+1 -> 44219 | D7: =$C$2+ROWS($A$1:A4)*7 -> 44225 | E7: =TEXT(C7,"MM/DD")&" - "&TEXT(D7,"MM/DD") -> 01/23 - 01/29 | F7: 01/23 - 01/29
B8: Week 5 | C8: =D7+1 -> 44226 | D8: =$C$2+ROWS($A$1:A5)*7 -> 44232 | E8: =TEXT(C8,"MM/DD")&" - "&TEXT(D8,"MM/DD") -> 01/30 - 02/05 | F8: 01/30 - 02/05
B9: Week 6 | C9: =D8+1 -> 44233 | D9: =$C$2+ROWS($A$1:A6)*7 -> 44239 | E9: =TEXT(C9,"MM/DD")&" - "&TEXT(D9,"MM/DD") -> 02/06 - 02/12 | F9: 02/06 - 02/12
B10: Week 7 | C10: =D9+1 -> 44240 | D10: =$C$2+ROWS($A$1:A7)*7 -> 44246 | E10: =TEXT(C10,"MM/DD")&" - "&TEXT(D10,"MM/DD") -> 02/13 - 02/19 | F10: 02/13 - 02/19
B11: Week 8 | C11: =D10+1 -> 44247 | D11: =$C$2+ROWS($A$1:A8)*7 -> 44253 | E11: =TEXT(C11,"MM/DD")&" - "&TEXT(D11,"MM/DD") -> 02/20 - 02/26 | F11: 02/20 - 02/26
B12: Week 9 | C12: =D11+1 -> 44254 | D12: =$C$2+ROWS($A$1:A9)*7 -> 44260 | E12: =TEXT(C12,"MM/DD")&" - "&TEXT(D12,"MM/DD") -> 02/27 - 03/05 | F12: 02/27 - 03/05
B13: Week 10 | C13: =D12+1 -> 44261 | D13: =$C$2+ROWS($A$1:A10)*7 -> 44267 | E13: =TEXT(C13,"MM/DD")&" - "&TEXT(D13,"MM/DD") -> 03/06 - 03/12 | F13: 03/06 - 03/12
B14: Week 11 | C14: =D13+1 -> 44268 | D14: =$C$2+ROWS($A$1:A11)*7 -> 44274 | E14: =TEXT(C14,"MM/DD")&" - "&TEXT(D14,"MM/DD") -> 03/13 - 03/19 | F14: 03/13 - 03/19
B15: Week 12 | C15: =D14+1 -> 44275 | D15: =$C$2+ROWS($A$1:A12)*7 -> 44281 | E15: =TEXT(C15,"MM/DD")&" - "&TEXT(D15,"MM/DD") -> 03/20 - 03/26 | F15: 03/20 - 03/26
B16: Week 13 | C16: =D15+1 -> 44282 | D16: =$C$2+ROWS($A$1:A13)*7 -> 44288 | E16: =TEXT(C16,"MM/DD")&" - "&TEXT(D16,"MM/DD") -> 03/27 - 04/02 | F16: 03/27 - 04/02
... B55: Week 52 | C55: =D54+1 -> 44555 | D55: =$C$2+ROWS($A$1:A52)*7 -> 44561 | E55: =TEXT(C55,"MM/DD")&" - "&TEXT(D55,"MM/DD") -> 12/25 - 12/31 | F55: 12/25 - 12/31

Sheet G1-Programs and Members
A1: Program Managers
B4: Role of Program Manager? | C4: Self-manages team with specific program tasks, and excellent at cross-collaboration and teamwork. | G4: Checklist | H4: Checklist of things you need to do as a Program Manager:
B6: Program Members: Business Chief, Director, and Program Manager
B7: Program Name | C7: Lead | D7: Program Members | E7: Drive Link | G7: # | H7: Steps
A8: Ex. | B8: Bowling | C8: John Smith | D8: Amy Garrett, and Bob Ross | G8: 1 | H8: Create a Microsoft Teams folder: Hyperlink the folder on this sheet & pin the folder to the [communications] channel
G10: 2 | H10: Type in Program Member names including Program Manager, Business Chief, and Director. Make sure to obtain their signature approval
G11: 3 | H11: Fill out "Tracking" Sheet for your garrison
G12: 4 | H12: Once you have updated your tasks in "Tracking," the Program Manager, Business Chief, and Director should sign off on business plan, action plan
G13: 5 | H13: Revise business plan and action plan as needed
G14: 6 | H14: Send final documents to IMCOM Directorate

Sheet G1-Tracking
C1: Programs - Tracking Dashboard (2021) | H1: Color Code For Final Status | I1: Color | J1: Steps
H2: Not-Started | I2: Pink | J2: 1. Begin by filling out the tasks.
H3: On-Going | I3: Tan | J3: 2. Write down notes week to week on progress.
H4: Completed | I4: Blue | J4: 3. Indicate Status for that week on Friday and type in when you last updated the sheet.
B5: Tracking | C5: Share the status of your tasks every Friday before 3pm. | H5: Input Information | I5: White | J5: 4. Copy and add new cells as needed
B7: Write on the cells below any week update you have to share with the IMCOM-Training Director
B8: Program Name | C8: Lead | D8: Tasks | E8: Week 1 | F8: Week 2 | G8: Week 3 | H8: Week 4 | I8: Week 5 | J8: Week 6 | K8: Week 7 | L8: Week 8 | M8: Week 9 | N8: Week 10 | O8: Week 11 | P8: Week 12 | Q8: Final Status | R8: Last Updated
E9: 01/01 - 01/08 | F9: 01/09 - 01/15 | G9: 01/16 - 01/22 | H9: 01/23 - 01/29 | I9: 01/30 - 02/05 | J9: 02/06 - 02/12 | K9: 02/13 - 02/19 | L9: 02/20 - 02/26 | M9: 02/27 - 03/05 | N9: 03/06 - 03/12 | O9: 03/13 - 03/19 | P9: 03/20 - 03/26
B10: ='G1-Programs and Members'!B8 -> Bowling | C10: ='G1-Programs and Members'!C8 -> John Smith | D10: Create a Business Plan and Action Plan | F10: Started drafting a proposal | Q10: On-Going | R10: 44208
D11: Meet with Community Partners | E11: Meeting with Bowling Association | Q11: Completed | R11: 44200
D12: Revising the Budget | E12: Discuss changes with Business Chief | Q12: Completed | R12: 44203

Sheet G2-Programs and Members
A1: Program Managers
B4: Role of Program Manager? | C4: Self-manages team with specific program tasks, and excellent at cross-collaboration and teamwork. | G4: Checklist | H4: Checklist of things you need to do as a Program Manager:
B6: Program Members: Business Chief, Director, and Program Manager
B7: Program Name | C7: Lead | D7: Program Members | E7: Drive Link | G7: # | H7: Steps
A8: Ex. | B8: Bowling | C8: Jane Doe | G8: 1 | H8: Create a Microsoft Teams folder: Hyperlink the folder on this sheet & pin the folder to the [communications] channel
G10: 2 | H10: Type in Program Member names including Program Manager, Business Chief, and Director. Make sure to obtain their signature approval
G11: 3 | H11: Fill out "Tracking" Sheet for your garrison
G12: 4 | H12: Once you have updated your tasks in "Tracking," the Program Manager, Business Chief, and Director should sign off on business plan, action plan
G13: 5 | H13: Revise business plan and action plan as needed
G14: 6 | H14: Send final documents to IMCOM Directorate
G15: * | H15: Copy and add any additional lines as needed

Sheet G2-Tracking
C1: Programs - Tracking Dashboard (2021) | H1: Color Code For Final Status | I1: Color | J1: Steps
H2: Not-Started | I2: Pink | J2: 1. Begin by filling out the tasks.
H3: On-Going | I3: Tan | J3: 2. Write down notes week to week on progress.
H4: Completed | I4: Blue | J4: 3. Indicate Status for that week on Friday and type in when you last updated the sheet.
B5: Tracking | C5: Share the status of your tasks every Friday before 3pm. | H5: Input Information | I5: White
B7: Write on the cells below any week update you have to share with the IMCOM-Training Director
B8: Program Name | C8: Lead | D8: Tasks | E8: Week 1 | F8: Week 2 | G8: Week 3 | H8: Week 4 | I8: Week 5 | J8: Week 6 | K8: Week 7 | L8: Week 8 | M8: Week 9 | N8: Week 10 | O8: Week 11 | P8: Week 12 | Q8: Final Status | R8: Last Updated
E9: 01/01 - 01/08 | F9: 01/09 - 01/15 | G9: 01/16 - 01/22 | H9: 01/23 - 01/29 | I9: 01/30 - 02/05 | J9: 02/06 - 02/12 | K9: 02/13 - 02/19 | L9: 02/20 - 02/26 | M9: 02/27 - 03/05 | N9: 03/06 - 03/12 | O9: 03/13 - 03/19 | P9: 03/20 - 03/26
B10: ='G1-Programs and Members'!B8 -> Bowling | C10: ='G1-Programs and Members'!C8 -> John Smith | D10: Create Business Plan and Action Plan | E10: Met with Program Chief | Q10: Not Started | R10: 44130
D11: Business Plan not approved by Business Chief, and Director | E11: Due to incomplete budget | Q11: On-Going | R11: 44131
D12: Meet with Community Partners | E12: Meeting with Bowling Association Director | Q12: Completed | R12: 44132

Sheet G3-Programs and Members
A1: Program Managers
B4: Role of Program Manager? | C4: Self-manages team with specific program tasks, and excellent at cross-collaboration and teamwork. | G4: Checklist | H4: Checklist of things you need to do as a Program Manager:
B6: Program Members: Business Chief, Director, and Program Manager
B7: Program Name | C7: Lead | D7: Program Members | E7: Drive Link | G7: # | H7: Steps
A8: Ex. | B8: Bowling | C8: John Smith | G8: 1 | H8: Create a Microsoft Teams folder: Hyperlink the folder on this sheet & pin the folder to the [communications] channel
G10: 2 | H10: Type in Program Member names including Program Manager, Business Chief, and Director. Make sure to obtain their signature approval
G11: 3 | H11: Fill out "Tracking" Sheet for your garrison
G12: 4 | H12: Once you have updated your tasks in "Tracking," the Program Manager, Business Chief, and Director should sign off on business plan, action plan
G13: 5 | H13: Revise business plan and action plan as needed
G14: 6 | H14: Send final documents to IMCOM Directorate

Sheet G3-Tracking
C1: Programs - Tracking Dashboard (2021) | H1: Color Code For Final Status | I1: Color | J1: Steps
H2: Not-Started | I2: Pink | J2: 1. Begin by filling out the tasks.
H3: On-Going | I3: Tan | J3: 2. Write down notes week to week on progress.
H4: Completed | I4: Blue | J4: 3. Indicate Status for that week on Friday and type in when you last updated the sheet.
B5: Tracking | C5: Share the status of your tasks every Friday before 3pm. | H5: Input Information | I5: White
B7: Write on the cells below any week update you have to share with the IMCOM-Training Director
B8: Program Name | C8: Lead | D8: Tasks | E8: Week 1 | F8: Week 2 | G8: Week 3 | H8: Week 4 | I8: Week 5 | J8: Week 6 | K8: Week 7 | L8: Week 8 | M8: Week 9 | N8: Week 10 | O8: Week 11 | P8: Week 12 | Q8: Final Status | R8: Last Updated
E9: 01/01 - 01/08 | F9: 01/09 - 01/15 | G9: 01/16 - 01/22 | H9: 01/23 - 01/29 | I9: 01/30 - 02/05 | J9: 02/06 - 02/12 | K9: 02/13 - 02/19 | L9: 02/20 - 02/26 | M9: 02/27 - 03/05 | N9: 03/06 - 03/12 | O9: 03/13 - 03/19 | P9: 03/20 - 03/26
B10: ='G1-Programs and Members'!B8 -> Bowling | C10: ='G1-Programs and Members'!C8 -> John Smith | D10: Create Business Plan and Action Plan | E10: Met with Program Chief | Q10: Not Started | R10: 44130
D11: Business Plan not approved by Business Chief, and Director | E11: Due to incomplete budget | Q11: On-Going | R11: 44131
D12: Meet with Community Partners | E12: Meeting with Bowling Association Director | Q12: Completed | R12: 44132

Sheet G4-Programs and Members
A1: Program Managers
B4: Role of Program Manager? | C4: Self-manages team with specific program tasks, and excellent at cross-collaboration and teamwork. | G4: Checklist | H4: Checklist of things you need to do as a Program Manager:
B6: Program Members: Business Chief, Director, and Program Manager
B7: Program Name | C7: Lead | D7: Program Members | E7: Drive Link | G7: # | H7: Steps
A8: Ex. | B8: Bowling | C8: John Smith | G8: 1 | H8: Create a Microsoft Teams folder: Hyperlink the folder on this sheet & pin the folder to the [communications] channel
G10: 2 | H10: Type in Program Member names including Program Manager, Business Chief, and Director. Make sure to obtain their signature approval
G11: 3 | H11: Fill out "Tracking" Sheet for your garrison
G12: 4 | H12: Once you have updated your tasks in "Tracking," the Program Manager, Business Chief, and Director should sign off on business plan, action plan
G13: 5 | H13: Revise business plan and action plan as needed
G14: 6 | H14: Send final documents to IMCOM Directorate

Sheet G4-Tracking
C1: Programs - Tracking Dashboard (2021) | H1: Color Code For Final Status | I1: Color | J1: Steps
H2: Not-Started | I2: Pink | J2: 1. Begin by filling out the tasks.
H3: On-Going | I3: Tan | J3: 2. Write down notes week to week on progress.
H4: Completed | I4: Blue | J4: 3. Indicate Status for that week on Friday and type in when you last updated the sheet.
B5: Tracking | C5: Share the status of your tasks every Friday before 3pm. | H5: Input Information | I5: White
B7: Write on the cells below any week update you have to share with the IMCOM-Training Director
B8: Program Name | C8: Lead | D8: Tasks | E8: Week 1 | F8: Week 2 | G8: Week 3 | H8: Week 4 | I8: Week 5 | J8: Week 6 | K8: Week 7 | L8: Week 8 | M8: Week 9 | N8: Week 10 | O8: Week 11 | P8: Week 12 | Q8: Final Status | R8: Last Updated
E9: 01/01 - 01/08 | F9: 01/09 - 01/15 | G9: 01/16 - 01/22 | H9: 01/23 - 01/29 | I9: 01/30 - 02/05 | J9: 02/06 - 02/12 | K9: 02/13 - 02/19 | L9: 02/20 - 02/26 | M9: 02/27 - 03/05 | N9: 03/06 - 03/12 | O9: 03/13 - 03/19 | P9: 03/20 - 03/26
B10: ='G1-Programs and Members'!B8 -> Bowling | C10: ='G1-Programs and Members'!C8 -> John Smith | D10: Create Business Plan and Action Plan | E10: Met with Program Chief | Q10: Not Started | R10: 44130
D11: Business Plan not approved by Business Chief, and Director | E11: Due to incomplete budget | Q11: On-Going | R11: 44131
D12: Meet with Community Partners | E12: Meeting with Bowling Association Director | Q12: Completed | R12: 44132

Sheet G5-Programs and Members
A1: Program Managers
B4: Role of Program Manager? | C4: Self-manages team with specific program tasks, and excellent at cross-collaboration and teamwork. | G4: Checklist | H4: Checklist of things you need to do as a Program Manager:
B6: Program Members: Business Chief, Director, and Program Manager
B7: Program Name | C7: Lead | D7: Program Members | E7: Drive Link | G7: # | H7: Steps
A8: Ex. | B8: Bowling | C8: John Smith | G8: 1 | H8: Create a Microsoft Teams folder: Hyperlink the folder on this sheet & pin the folder to the [communications] channel
G10: 2 | H10: Type in Program Member names including Program Manager, Business Chief, and Director. Make sure to obtain their signature approval
G11: 3 | H11: Fill out "Tracking" Sheet for your garrison
G12: 4 | H12: Once you have updated your tasks in "Tracking," the Program Manager, Business Chief, and Director should sign off on business plan, action plan
G13: 5 | H13: Revise business plan and action plan as needed
G14: 6 | H14: Send final documents to IMCOM Directorate

Sheet G5-Tracking
C1: Programs - Tracking Dashboard (2021) | H1: Color Code For Final Status | I1: Color | J1: Steps
H2: Not-Started | I2: Pink | J2: 1. Begin by filling out the tasks.
H3: On-Going | I3: Tan | J3: 2. Write down notes week to week on progress.
H4: Completed | I4: Blue | J4: 3. Indicate Status for that week on Friday and type in when you last updated the sheet.
B5: Tracking | C5: Share the status of your tasks every Friday before 3pm. | H5: Input Information | I5: White
B7: Write on the cells below any week update you have to share with the IMCOM-Training Director
B8: Program Name | C8: Lead | D8: Tasks | E8: Week 1 | F8: Week 2 | G8: Week 3 | H8: Week 4 | I8: Week 5 | J8: Week 6 | K8: Week 7 | L8: Week 8 | M8: Week 9 | N8: Week 10 | O8: Week 11 | P8: Week 12 | Q8: Final Status | R8: Last Updated
E9: 01/01 - 01/08 | F9: 01/09 - 01/15 | G9: 01/16 - 01/22 | H9: 01/23 - 01/29 | I9: 01/30 - 02/05 | J9: 02/06 - 02/12 | K9: 02/13 - 02/19 | L9: 02/20 - 02/26 | M9: 02/27 - 03/05 | N9: 03/06 - 03/12 | O9: 03/13 - 03/19 | P9: 03/20 - 03/26
B10: ='G1-Programs and Members'!B8 -> Bowling | C10: ='G1-Programs and Members'!C8 -> John Smith | D10: Create Business Plan and Action Plan | E10: Met with Program Chief | Q10: Not Started | R10: 44130
D11: Business Plan not approved by Business Chief, and Director | E11: Due to incomplete budget | Q11: On-Going | R11: 44131
D12: Meet with Community Partners | E12: Meeting with Bowling Association Director | Q12: Completed | R12: 44132

Sheet G6-Programs and Members
A1: Program Managers
B4: Role of Program Manager? | C4: Self-manages team with specific program tasks, and excellent at cross-collaboration and teamwork. | G4: Checklist | H4: Checklist of things you need to do as a Program Manager:
B6: Program Members: Business Chief, Director, and Program Manager
B7: Program Name | C7: Lead | D7: Program Members | E7: Drive Link | G7: # | H7: Steps
A8: Ex. | B8: Bowling | C8: John Smith | G8: 1 | H8: Create a Microsoft Teams folder: Hyperlink the folder on this sheet & pin the folder to the [communications] channel
G10: 2 | H10: Type in Program Member names including Program Manager, Business Chief, and Director. Make sure to obtain their signature approval
G11: 3 | H11: Fill out "Tracking" Sheet for your garrison
G12: 4 | H12: Once you have updated your tasks in "Tracking," the Program Manager, Business Chief, and Director should sign off on business plan, action plan
G13: 5 | H13: Revise business plan and action plan as needed
G14: 6 | H14: Send final documents to IMCOM Directorate

Sheet G6-Tracking
C1: Programs - Tracking Dashboard (2021) | H1: Color Code For Final Status | I1: Color | J1: Steps
H2: Not-Started | I2: Pink | J2: 1. Begin by filling out the tasks.
H3: On-Going | I3: Tan | J3: 2. Write down notes week to week on progress.
H4: Completed | I4: Blue | J4: 3. Indicate Status for that week on Friday and type in when you last updated the sheet.
B5: Tracking | C5: Share the status of your tasks every Friday before 3pm. | H5: Input Information | I5: White
B7: Write on the cells below any week update you have to share with the IMCOM-Training Director
B8: Program Name | C8: Lead | D8: Tasks | E8: Week 1 | F8: Week 2 | G8: Week 3 | H8: Week 4 | I8: Week 5 | J8: Week 6 | K8: Week 7 | L8: Week 8 | M8: Week 9 | N8: Week 10 | O8: Week 11 | P8: Week 12 | Q8: Final Status | R8: Last Updated
E9: 01/01 - 01/08 | F9: 01/09 - 01/15 | G9: 01/16 - 01/22 | H9: 01/23 - 01/29 | I9: 01/30 - 02/05 | J9: 02/06 - 02/12 | K9: 02/13 - 02/19 | L9: 02/20 - 02/26 | M9: 02/27 - 03/05 | N9: 03/06 - 03/12 | O9: 03/13 - 03/19 | P9: 03/20 - 03/26
B10: ='G1-Programs and Members'!B8 -> Bowling | C10: ='G1-Programs and Members'!C8 -> John Smith | D10: Create Business Plan and Action Plan | E10: Met with Program Chief | Q10: Not Started | R10: 44130
D11: Business Plan not approved by Business Chief, and Director | E11: Due to incomplete budget | Q11: On-Going | R11: 44131
D12: Meet with Community Partners | E12: Meeting with Bowling Association Director | Q12: Completed | R12: 44132

Sheet G7-Programs and Members
A1: Program Managers
B4: Role of Program Manager? | C4: Self-manages team with specific program tasks, and excellent at cross-collaboration and teamwork. | G4: Checklist | H4: Checklist of things you need to do as a Program Manager:
B6: Program Members: Business Chief, Director, and Program Manager
B7: Program Name | C7: Lead | D7: Program Members | E7: Drive Link | G7: # | H7: Steps
A8: Ex. | B8: Bowling | C8: John Smith | G8: 1 | H8: Create a Microsoft Teams folder: Hyperlink the folder on this sheet & pin the folder to the [communications] channel
G10: 2 | H10: Type in Program Member names including Program Manager, Business Chief, and Director. Make sure to obtain their signature approval
G11: 3 | H11: Fill out "Tracking" Sheet for your garrison
G12: 4 | H12: Once you have updated your tasks in "Tracking," the Program Manager, Business Chief, and Director should sign off on business plan, action plan
G13: 5 | H13: Revise business plan and action plan as needed
G14: 6 | H14: Send final documents to IMCOM Directorate

Sheet G7-Tracking
C1: Programs - Tracking Dashboard (2021) | H1: Color Code For Final Status | I1: Color | J1: Steps
H2: Not-Started | I2: Pink | J2: 1. Begin by filling out the tasks.
H3: On-Going | I3: Tan | J3: 2. Write down notes week to week on progress.
H4: Completed | I4: Blue | J4: 3. Indicate Status for that week on Friday and type in when you last updated the sheet.
B5: Tracking | C5: Share the status of your tasks every Friday before 3pm. | H5: Input Information | I5: White
B7: Write on the cells below any week update you have to share with the IMCOM-Training Director
B8: Program Name | C8: Lead | D8: Tasks | E8: Week 1 | F8: Week 2 | G8: Week 3 | H8: Week 4 | I8: Week 5 | J8: Week 6 | K8: Week 7 | L8: Week 8 | M8: Week 9 | N8: Week 10 | O8: Week 11 | P8: Week 12 | Q8: Final Status | R8: Last Updated
E9: 01/01 - 01/08 | F9: 01/09 - 01/15 | G9: 01/16 - 01/22 | H9: 01/23 - 01/29 | I9: 01/30 - 02/05 | J9: 02/06 - 02/12 | K9: 02/13 - 02/19 | L9: 02/20 - 02/26 | M9: 02/27 - 03/05 | N9: 03/06 - 03/12 | O9: 03/13 - 03/19 | P9: 03/20 - 03/26
B10: ='G1-Programs and Members'!B8 -> Bowling | C10: ='G1-Programs and Members'!C8 -> John Smith | D10: Create Business Plan and Action Plan | E10: Met with Program Chief | Q10: Not Started | R10: 44130
D11: Business Plan not approved by Business Chief, and Director | E11: Due to incomplete budget | Q11: On-Going | R11: 44131
D12: Meet with Community Partners | E12: Meeting with Bowling Association Director | Q12: Completed | R12: 44132

Sheet G8-Programs and Members
A1: Program Managers
B4: Role of Program Manager? | C4: Self-manages team with specific program tasks, and excellent at cross-collaboration and teamwork. | G4: Checklist | H4: Checklist of things you need to do as a Program Manager:
B6: Program Members: Business Chief, Director, and Program Manager
B7: Program Name | C7: Lead | D7: Program Members | E7: Drive Link | G7: # | H7: Steps
A8: Ex. | B8: Bowling | C8: John Smith | G8: 1 | H8: Create a Microsoft Teams folder: Hyperlink the folder on this sheet & pin the folder to the [communications] channel
G10: 2 | H10: Type in Program Member names including Program Manager, Business Chief, and Director. Make sure to obtain their signature approval
G11: 3 | H11: Fill out "Tracking" Sheet for your garrison
G12: 4 | H12: Once you have updated your tasks in "Tracking," the Program Manager, Business Chief, and Director should sign off on business plan, action plan
G13: 5 | H13: Revise business plan and action plan as needed
G14: 6 | H14: Send final documents to IMCOM Directorate

Sheet G8-Tracking
C1: Programs - Tracking Dashboard (2021) | H1: Color Code For Final Status | I1: Color | J1: Steps
H2: Not-Started | I2: Pink | J2: 1. Begin by filling out the tasks.
H3: On-Going | I3: Tan | J3: 2. Write down notes week to week on progress.
H4: Completed | I4: Blue | J4: 3. Indicate Status for that week on Friday and type in when you last updated the sheet.
B5: Tracking | C5: Share the status of your tasks every Friday before 3pm. | H5: Input Information | I5: White
B7: Write on the cells below any week update you have to share with the IMCOM-Training Director
B8: Program Name | C8: Lead | D8: Tasks | E8: Week 1 | F8: Week 2 | G8: Week 3 | H8: Week 4 | I8: Week 5 | J8: Week 6 | K8: Week 7 | L8: Week 8 | M8: Week 9 | N8: Week 10 | O8: Week 11 | P8: Week 12 | Q8: Final Status | R8: Last Updated
E9: 01/01 - 01/08 | F9: 01/09 - 01/15 | G9: 01/16 - 01/22 | H9: 01/23 - 01/29 | I9: 01/30 - 02/05 | J9: 02/06 - 02/12 | K9: 02/13 - 02/19 | L9: 02/20 - 02/26 | M9: 02/27 - 03/05 | N9: 03/06 - 03/12 | O9: 03/13 - 03/19 | P9: 03/20 - 03/26
B10: ='G1-Programs and Members'!B8 -> Bowling | C10: ='G1-Programs and Members'!C8 -> John Smith | D10: Create Business Plan and Action Plan | E10: Met with Program Chief | Q10: Not Started | R10: 44130
D11: Business Plan not approved by Business Chief, and Director | E11: Due to incomplete budget | Q11: On-Going | R11: 44131
D12: Meet with Community Partners | E12: Meeting with Bowling Association Director | Q12: Completed | R12: 44132

Sheet G9-Programs and Members
A1: Program Managers
B4: Role of Program Manager? | C4: Self-manages team with specific program tasks, and excellent at cross-collaboration and teamwork. | G4: Checklist | H4: Checklist of things you need to do as a Program Manager:
B6: Program Members: Business Chief, Director, and Program Manager
B7: Program Name | C7: Lead | D7: Program Members | E7: Drive Link | G7: # | H7: Steps
A8: Ex. | B8: Bowling | C8: John Smith | G8: 1 | H8: Create a Microsoft Teams folder: Hyperlink the folder on this sheet & pin the folder to the [communications] channel
G10: 2 | H10: Type in Program Member names including Program Manager, Business Chief, and Director. Make sure to obtain their signature approval
G11: 3 | H11: Fill out "Tracking" Sheet for your garrison
G12: 4 | H12: Once you have updated your tasks in "Tracking," the Program Manager, Business Chief, and Director should sign off on business plan, action plan
G13: 5 | H13: Revise business plan and action plan as needed
G14: 6 | H14: Send final documents to IMCOM Directorate

Sheet G9-Tracking
C1: Programs - Tracking Dashboard (2021) | H1: Color Code For Final Status | I1: Color | J1: Steps
H2: Not-Started | I2: Pink | J2: 1. Begin by filling out the tasks.
H3: On-Going | I3: Tan | J3: 2. Write down notes week to week on progress.
H4: Completed | I4: Blue | J4: 3. Indicate Status for that week on Friday and type in when you last updated the sheet.
B5: Tracking | C5: Share the status of your tasks every Friday before 3pm. | H5: Input Information | I5: White
B7: Write on the cells below any week update you have to share with the IMCOM-Training Director
B8: Program Name | C8: Lead | D8: Tasks | E8: Week 1 | F8: Week 2 | G8: Week 3 | H8: Week 4 | I8: Week 5 | J8: Week 6 | K8: Week 7 | L8: Week 8 | M8: Week 9 | N8: Week 10 | O8: Week 11 | P8: Week 12 | Q8: Final Status | R8: Last Updated
E9: 01/01 - 01/08 | F9: 01/09 - 01/15 | G9: 01/16 - 01/22 | H9: 01/23 - 01/29 | I9: 01/30 - 02/05 | J9: 02/06 - 02/12 | K9: 02/13 - 02/19 | L9: 02/20 - 02/26 | M9: 02/27 - 03/05 | N9: 03/06 - 03/12 | O9: 03/13 - 03/19 | P9: 03/20 - 03/26
B10: ='G1-Programs and Members'!B8 -> Bowling | C10: ='G1-Programs and Members'!C8 -> John Smith | D10: Create Business Plan and Action Plan | E10: Met with Program Chief | Q10: Not Started | R10: 44130
D11: Business Plan not approved by Business Chief, and Director | E11: Due to incomplete budget | Q11: On-Going | R11: 44131
D12: Meet with Community Partners | E12: Meeting with Bowling Association Director | Q12: Completed | R12: 44132

Sheet G10-Programs and Members
A1: Program Managers
B4: Role of Program Manager? | C4: Self-manages team with specific program tasks, and excellent at cross-collaboration and teamwork. | G4: Checklist | H4: Checklist of things you need to do as a Program Manager:
B6: Program Members: Business Chief, Director, and Program Manager
B7: Program Name | C7: Lead | D7: Program Members | E7: Drive Link | G7: # | H7: Steps
A8: Ex. | B8: Bowling | C8: John Smith | G8: 1 | H8: Create a Microsoft Teams folder: Hyperlink the folder on this sheet & pin the folder to the [communications] channel
G10: 2 | H10: Type in Program Member names including Program Manager, Business Chief, and Director. Make sure to obtain their signature approval
G11: 3 | H11: Fill out "Tracking" Sheet for your garrison
G12: 4 | H12: Once you have updated your tasks in "Tracking," the Program Manager, Business Chief, and Director should sign off on business plan, action plan
G13: 5 | H13: Revise business plan and action plan as needed
G14: 6 | H14: Send final documents to IMCOM Directorate

Sheet G10-Tracking
C1: Programs - Tracking Dashboard (2021) | H1: Color Code For Final Status | I1: Color | J1: Steps
H2: Not-Started | I2: Pink | J2: 1. Begin by filling out the tasks.
H3: On-Going | I3: Tan | J3: 2. Write down notes week to week on progress.
H4: Completed | I4: Blue | J4: 3. Indicate Status for that week on Friday and type in when you last updated the sheet.
B5: Tracking | C5: Share the status of your tasks every Friday before 3pm. | H5: Input Information | I5: White
B7: Write on the cells below any week update you have to share with the IMCOM-Training Director
B8: Program Name | C8: Lead | D8: Tasks | E8: Week 1 | F8: Week 2 | G8: Week 3 | H8: Week 4 | I8: Week 5 | J8: Week 6 | K8: Week 7 | L8: Week 8 | M8: Week 9 | N8: Week 10 | O8: Week 11 | P8: Week 12 | Q8: Final Status | R8: Last Updated
E9: 01/01 - 01/08 | F9: 01/09 - 01/15 | G9: 01/16 - 01/22 | H9: 01/23 - 01/29 | I9: 01/30 - 02/05 | J9: 02/06 - 02/12 | K9: 02/13 - 02/19 | L9: 02/20 - 02/26 | M9: 02/27 - 03/05 | N9: 03/06 - 03/12 | O9: 03/13 - 03/19 | P9: 03/20 - 03/26
B10: ='G1-Programs and Members'!B8 -> Bowling | C10: ='G1-Programs and Members'!C8 -> John Smith | D10: Create Business Plan and Action Plan | E10: Met with Program Chief | Q10: Not Started | R10: 44130
D11: Business Plan not approved by Business Chief, and Director | E11: Due to incomplete budget | Q11: On-Going | R11: 44131
D12: Meet with Community Partners | E12: Meeting with Bowling Association Director | Q12: Completed | R12: 44132

Sheet G11-Programs and Members
A1: Program Managers
B4: Role of Program Manager? | C4: Self-manages team with specific program tasks, and excellent at cross-collaboration and teamwork. | G4: Checklist | H4: Checklist of things you need to do as a Program Manager:
B6: Program Members: Business Chief, Director, and Program Manager
B7: Program Name | C7: Lead | D7: Program Members | E7: Drive Link | G7: # | H7: Steps
A8: Ex. | B8: Bowling | C8: John Smith | G8: 1 | H8: Create a Microsoft Teams folder: Hyperlink the folder on this sheet & pin the folder to the [communications] channel
G10: 2 | H10: Type in Program Member names including Program Manager, Business Chief, and Director. Make sure to obtain their signature approval
G11: 3 | H11: Fill out "Tracking" Sheet for your garrison
G12: 4 | H12: Once you have updated your tasks in "Tracking," the Program Manager, Business Chief, and Director should sign off on business plan, action plan
G13: 5 | H13: Revise business plan and action plan as needed
G14: 6 | H14: Send final documents to IMCOM Directorate

Sheet G11-Tracking
C1: Programs - Tracking Dashboard (2021) | H1: Color Code For Final Status | I1: Color | J1: Steps
H2: Not-Started | I2: Pink | J2: 1. Begin by filling out the tasks.
H3: On-Going | I3: Tan | J3: 2. Write down notes week to week on progress.
H4: Completed | I4: Blue | J4: 3. Indicate Status for that week on Friday and type in when you last updated the sheet.
B5: Tracking | C5: Share the status of your tasks every Friday before 3pm. | H5: Input Information | I5: White
B7: Write on the cells below any week update you have to share with the IMCOM-Training Director
B8: Program Name | C8: Lead | D8: Tasks | E8: Week 1 | F8: Week 2 | G8: Week 3 | H8: Week 4 | I8: Week 5 | J8: Week 6 | K8: Week 7 | L8: Week 8 | M8: Week 9 | N8: Week 10 | O8: Week 11 | P8: Week 12 | Q8: Final Status | R8: Last Updated
E9: 01/01 - 01/08 | F9: 01/09 - 01/15 | G9: 01/16 - 01/22 | H9: 01/23 - 01/29 | I9: 01/30 - 02/05 | J9: 02/06 - 02/12 | K9: 02/13 - 02/19 | L9: 02/20 - 02/26 | M9: 02/27 - 03/05 | N9: 03/06 - 03/12 | O9: 03/13 - 03/19 | P9: 03/20 - 03/26
B10: ='G1-Programs and Members'!B8 -> Bowling | C10: ='G1-Programs and Members'!C8 -> John Smith | D10: Create Business Plan and Action Plan | E10: Met with Program Chief | Q10: Not Started | R10: 44130
D11: Business Plan not approved by Business Chief, and Director | E11: Due to incomplete budget | Q11: On-Going | R11: 44131
D12: Meet with Community Partners | E12: Meeting with Bowling Association Director | Q12: Completed | R12: 44132

Sheet G12-Programs and Members
A1: Program Managers
B4: Role of Program Manager? | C4: Self-manages team with specific program tasks, and excellent at cross-collaboration and teamwork. | G4: Checklist | H4: Checklist of things you need to do as a Program Manager:
B6: Program Members: Business Chief, Director, and Program Manager
B7: Program Name | C7: Lead | D7: Program Members | E7: Drive Link | G7: # | H7: Steps
A8: Ex. | B8: Bowling | C8: John Smith | G8: 1 | H8: Create a Microsoft Teams folder: Hyperlink the folder on this sheet & pin the folder to the [communications] channel
G10: 2 | H10: Type in Program Member names including Program Manager, Business Chief, and Director. Make sure to obtain their signature approval
G11: 3 | H11: Fill out "Tracking" Sheet for your garrison
G12: 4 | H12: Once you have updated your tasks in "Tracking," the Program Manager, Business Chief, and Director should sign off on business plan, action plan
G13: 5 | H13: Revise business plan and action plan as needed
G14: 6 | H14: Send final documents to IMCOM Directorate

Sheet G12-Tracking
C1: Programs - Tracking Dashboard (2021) | H1: Color Code For Final Status | I1: Color | J1: Steps
H2: Not-Started | I2: Pink | J2: 1. Begin by filling out the tasks.
H3: On-Going | I3: Tan | J3: 2. Write down notes week to week on progress.
H4: Completed | I4: Blue | J4: 3. Indicate Status for that week on Friday and type in when you last updated the sheet.
B5: Tracking | C5: Share the status of your tasks every Friday before 3pm. | H5: Input Information | I5: White
B7: Write on the cells below any week update you have to share with the IMCOM-Training Director
B8: Program Name | C8: Lead | D8: Tasks | E8: Week 1 | F8: Week 2 | G8: Week 3 | H8: Week 4 | I8: Week 5 | J8: Week 6 | K8: Week 7 | L8: Week 8 | M8: Week 9 | N8: Week 10 | O8: Week 11 | P8: Week 12 | Q8: Final Status | R8: Last Updated
E9: 01/01 - 01/08 | F9: 01/09 - 01/15 | G9: 01/16 - 01/22 | H9: 01/23 - 01/29 | I9: 01/30 - 02/05 | J9: 02/06 - 02/12 | K9: 02/13 - 02/19 | L9: 02/20 - 02/26 | M9: 02/27 - 03/05 | N9: 03/06 - 03/12 | O9: 03/13 - 03/19 | P9: 03/20 - 03/26
B10: ='G1-Programs and Members'!B8 -> Bowling | C10: ='G1-Programs and Members'!C8 -> John Smith | D10: Create Business Plan and Action Plan | E10: Met with Program Chief | Q10: Not Started | R10: 44130
D11: Business Plan not approved by Business Chief, and Director | E11: Due to incomplete budget | Q11: On-Going | R11: 44131
D12: Meet with Community Partners | E12: Meeting with Bowling Association Director | Q12: Completed | R12: 44132

Sheet G13-Programs and Members
A1: Program Managers
B4: Role of Program Manager? | C4: Self-manages team with specific program tasks, and excellent at cross-collaboration and teamwork. | G4: Checklist | H4: Checklist of things you need to do as a Program Manager:
B6: Program Members: Business Chief, Director, and Program Manager
B7: Program Name | C7: Lead | D7: Program Members | E7: Drive Link | G7: # | H7: Steps
A8: Ex. | B8: Bowling | C8: John Smith | G8: 1 | H8: Create a Microsoft Teams folder: Hyperlink the folder on this sheet & pin the folder to the [communications] channel
G10: 2 | H10: Type in Program Member names including Program Manager, Business Chief, and Director. Make sure to obtain their signature approval
G11: 3 | H11: Fill out "Tracking" Sheet for your garrison
G12: 4 | H12: Once you have updated your tasks in "Tracking," the Program Manager, Business Chief, and Director should sign off on business plan, action plan
G13: 5 | H13: Revise business plan and action plan as needed
G14: 6 | H14: Send final documents to IMCOM Directorate

Sheet G13-Tracking
C1: Programs - Tracking Dashboard (2021) | H1: Color Code For Final Status | I1: Color | J1: Steps
H2: Not-Started | I2: Pink | J2: 1. Begin by filling out the tasks.
H3: On-Going | I3: Tan | J3: 2. Write down notes week to week on progress.
H4: Completed | I4: Blue | J4: 3. Indicate Status for that week on Friday and type in when you last updated the sheet.
B5: Tracking | C5: Share the status of your tasks every Friday before 3pm. | H5: Input Information | I5: White
B7: Write on the cells below any week update you have to share with the IMCOM-Training Director
B8: Program Name | C8: Lead | D8: Tasks | E8: Week 1 | F8: Week 2 | G8: Week 3 | H8: Week 4 | I8: Week 5 | J8: Week 6 | K8: Week 7 | L8: Week 8 | M8: Week 9 | N8: Week 10 | O8: Week 11 | P8: Week 12 | Q8: Final Status | R8: Last Updated
E9: 01/01 - 01/08 | F9: 01/09 - 01/15 | G9: 01/16 - 01/22 | H9: 01/23 - 01/29 | I9: 01/30 - 02/05 | J9: 02/06 - 02/12 | K9: 02/13 - 02/19 | L9: 02/20 - 02/26 | M9: 02/27 - 03/05 | N9: 03/06 - 03/12 | O9: 03/13 - 03/19 | P9: 03/20 - 03/26
B10: ='G1-Programs and Members'!B8 -> Bowling | C10: ='G1-Programs and Members'!C8 -> John Smith | D10: Create Business Plan and Action Plan | E10: Met with Program Chief | Q10: Not Started | R10: 44130
D11: Business Plan not approved by Business Chief, and Director | E11: Due to incomplete budget | Q11: On-Going | R11: 44131
D12: Meet with Community Partners | E12: Meeting with Bowling Association Director | Q12: Completed | R12: 44132

Sheet G14-Programs and Members
A1: Program Managers
B4: Role of Program Manager? | C4: Self-manages team with specific program tasks, and excellent at cross-collaboration and teamwork. | G4: Checklist | H4: Checklist of things you need to do as a Program Manager:
B6: Program Members: Business Chief, Director, and Program Manager
B7: Program Name | C7: Lead | D7: Program Members | E7: Drive Link | G7: # | H7: Steps
A8: Ex. | B8: Bowling | C8: John Smith | G8: 1 | H8: Create a Microsoft Teams folder: Hyperlink the folder on this sheet & pin the folder to the [communications] channel
G10: 2 | H10: Type in Program Member names including Program Manager, Business Chief, and Director. Make sure to obtain their signature approval
G11: 3 | H11: Fill out "Tracking" Sheet for your garrison
G12: 4 | H12: Once you have updated your tasks in "Tracking," the Program Manager, Business Chief, and Director should sign off on business plan, action plan
G13: 5 | H13: Revise business plan and action plan as needed
G14: 6 | H14: Send final documents to IMCOM Directorate

Sheet G14-Tracking
C1: Programs - Tracking Dashboard (2021) | H1: Color Code For Final Status | I1: Color | J1: Steps
H2: Not-Started | I2: Pink | J2: 1. Begin by filling out the tasks.
H3: On-Going | I3: Tan | J3: 2. Write down notes week to week on progress.
H4: Completed | I4: Blue | J4: 3. Indicate Status for that week on Friday and type in when you last updated the sheet.
B5: Tracking | C5: Share the status of your tasks every Friday before 3pm. | H5: Input Information | I5: White
B7: Write on the cells below any week update you have to share with the IMCOM-Training Director
B8: Program Name | C8: Lead | D8: Tasks | E8: Week 1 | F8: Week 2 | G8: Week 3 | H8: Week 4 | I8: Week 5 | J8: Week 6 | K8: Week 7 | L8: Week 8 | M8: Week 9 | N8: Week 10 | O8: Week 11 | P8: Week 12 | Q8: Final Status | R8: Last Updated
E9: 01/01 - 01/08 | F9: 01/09 - 01/15 | G9: 01/16 - 01/22 | H9: 01/23 - 01/29 | I9: 01/30 - 02/05 | J9: 02/06 - 02/12 | K9: 02/13 - 02/19 | L9: 02/20 - 02/26 | M9: 02/27 - 03/05 | N9: 03/06 - 03/12 | O9: 03/13 - 03/19 | P9: 03/20 - 03/26
B10: ='G1-Programs and Members'!B8 -> Bowling | C10: ='G1-Programs and Members'!C8 -> John Smith | D10: Create Business Plan and Action Plan | E10: Met with Program Chief | Q10: Not Started | R10: 44130
D11: Business Plan not approved by Business Chief, and Director | E11: Due to incomplete budget | Q11: On-Going | R11: 44131
D12: Meet with Community Partners | E12: Meeting with Bowling Association Director | Q12: Completed | R12: 44132

Sheet G15-Programs and Members
A1: Program Managers
B4: Role of Program Manager? | C4: Self-manages team with specific program tasks, and excellent at cross-collaboration and teamwork. | G4: Checklist | H4: Checklist of things you need to do as a Program Manager:
B6: Program Members: Business Chief, Director, and Program Manager
B7: Program Name | C7: Lead | D7: Program Members | E7: Drive Link | G7: # | H7: Steps
A8: Ex. | B8: Bowling | C8: John Smith | G8: 1 | H8: Create a Microsoft Teams folder: Hyperlink the folder on this sheet & pin the folder to the [communications] channel
G10: 2 | H10: Type in Program Member names including Program Manager, Business Chief, and Director. Make sure to obtain their signature approval
G11: 3 | H11: Fill out "Tracking" Sheet for your garrison
G12: 4 | H12: Once you have updated your tasks in "Tracking," the Program Manager, Business Chief, and Director should sign off on business plan, action plan
G13: 5 | H13: Revise business plan and action plan as needed
G14: 6 | H14: Send final documents to IMCOM Directorate

Sheet G15-Tracking
C1: Programs - Tracking Dashboard (2021) | H1: Color Code For Final Status | I1: Color | J1: Steps
H2: Not-Started | I2: Pink | J2: 1. Begin by filling out the tasks.
H3: On-Going | I3: Tan | J3: 2. Write down notes week to week on progress.
H4: Completed | I4: Blue | J4: 3. Indicate Status for that week on Friday and type in when you last updated the sheet.
B5: Tracking | C5: Share the status of your tasks every Friday before 3pm. | H5: Input Information | I5: White
B7: Write on the cells below any week update you have to share with the IMCOM-Training Director
B8: Program Name | C8: Lead | D8: Tasks | E8: Week 1 | F8: Week 2 | G8: Week 3 | H8: Week 4 | I8: Week 5 | J8: Week 6 | K8: Week 7 | L8: Week 8 | M8: Week 9 | N8: Week 10 | O8: Week 11 | P8: Week 12 | Q8: Final Status | R8: Last Updated
E9: 01/01 - 01/08 | F9: 01/09 - 01/15 | G9: 01/16 - 01/22 | H9: 01/23 - 01/29 | I9: 01/30 - 02/05 | J9: 02/06 - 02/12 | K9: 02/13 - 02/19 | L9: 02/20 - 02/26 | M9: 02/27 - 03/05 | N9: 03/06 - 03/12 | O9: 03/13 - 03/19 | P9: 03/20 - 03/26
B10: ='G1-Programs and Members'!B8 -> Bowling | C10: ='G1-Programs and Members'!C8 -> John Smith | D10: Create Business Plan and Action Plan | E10: Met with Program Chief | Q10: Not Started | R10: 44130
D11: Business Plan not approved by Business Chief, and Director | E11: Due to incomplete budget | Q11: On-Going | R11: 44131
D12: Meet with Community Partners | E12: Meeting with Bowling Association Director | Q12: Completed | R12: 44132
